BEGIN:VCALENDAR
VERSION:2.0
PRODID:-//Saint Louis City Recycles - ECPv6.15.19//NONSGML v1.0//EN
CALSCALE:GREGORIAN
METHOD:PUBLISH
X-ORIGINAL-URL:https://stlcityrecycles.com
X-WR-CALDESC:Events for Saint Louis City Recycles
REFRESH-INTERVAL;VALUE=DURATION:PT1H
X-Robots-Tag:noindex
X-PUBLISHED-TTL:PT1H
BEGIN:VTIMEZONE
TZID:America/New_York
BEGIN:DAYLIGHT
TZOFFSETFROM:-0500
TZOFFSETTO:-0400
TZNAME:EDT
DTSTART:20250309T070000
END:DAYLIGHT
BEGIN:STANDARD
TZOFFSETFROM:-0400
TZOFFSETTO:-0500
TZNAME:EST
DTSTART:20251102T060000
END:STANDARD
BEGIN:DAYLIGHT
TZOFFSETFROM:-0500
TZOFFSETTO:-0400
TZNAME:EDT
DTSTART:20260308T070000
END:DAYLIGHT
BEGIN:STANDARD
TZOFFSETFROM:-0400
TZOFFSETTO:-0500
TZNAME:EST
DTSTART:20261101T060000
END:STANDARD
BEGIN:DAYLIGHT
TZOFFSETFROM:-0500
TZOFFSETTO:-0400
TZNAME:EDT
DTSTART:20270314T070000
END:DAYLIGHT
BEGIN:STANDARD
TZOFFSETFROM:-0400
TZOFFSETTO:-0500
TZNAME:EST
DTSTART:20271107T060000
END:STANDARD
END:VTIMEZONE
BEGIN:VEVENT
DTSTART;TZID=America/New_York:20260328T080000
DTEND;TZID=America/New_York:20260328T110000
DTSTAMP:20260425T063053
CREATED:20260210T174857Z
LAST-MODIFIED:20260226T164119Z
UID:10000090-1774684800-1774695600@stlcityrecycles.com
SUMMARY:Electronics Recycling Event - Hosted by Saint Louis City Recycles
DESCRIPTION:Saint Louis City Recycles is hosting another Electronics Recycling & Document Destruction Event in March! \nDate: Saturday\, March 28th\, 2026 \nTime: 8:00 am – 11:00 am \nLocation: 1640 S. Kingshighway Blvd 63110 (Saint Louis Water Department) \nThe Midwest Recycling Center (MRC) professionally recycles almost anything with a power cord or battery! For more information about what MRC accepts\, check out their website at HERE.\n*Documents are securely transported to MRC and shredded*  *Limit of two document boxes per vehicle* \nFees for this event are waived for City residents\, while funding lasts. *ID is required* \nVOLUNTEER FOR THIS EVENT!\nemail recycle@stlouis-mo.gov or call 314-772-4646 \nProject funded by the St. Louis-Jefferson Solid Waste Management District and the Missouri Department of Natural Resources. Thank you!
URL:https://stlcityrecycles.com/event/electronics-recycling-event/
LOCATION:Saint Louis Water Department\, 1640 S. Kingshighway Blvd\, Saint Louis\, MO\, 63110\, United States
END:VEVENT
END:VCALENDAR